1
0
0
-1
579541.283670147
4775317.73496917
