1
0
0
-1
579597.731696313
4770690.65568696
