1
0
0
-1
613367.267808887
4780441.7296804
