1
0
0
-1
606740.391335507
4771074.65160169
