1
0
0
-1
613605.322429125
4766560.43511617
