1
0
0
-1
627097.525670501
4771433.2579335
