2.5
0
0
-2.5
620888.883575001
4734493.09112805
