2.5
0
0
-2.5
539117.235560608
4714957.34417113
