2.5
0
0
-2.5
552961.571479421
4696555.56478499
