2.5
0
0
-2.5
580405.39720278
4696844.4460008
