2.5
0
0
-2.5
593993.407417861
4706282.27142688
