2.5
0
0
-2.5
648810.037740477
4707291.86023389
