2.5
0
0
-2.5
579356.538250312
4780125.17712997
