0.5
0
0
-0.5
610527.509282102
4750222.25422303
