0.5
0
0
-0.5
613930.048029828
4750278.68001502
