0.5
0
0
-0.5
613968.953380706
4747965.24193574
