0.5
0
0
-0.5
603828.923246249
4743174.17062131
