0.5
0
0
-0.5
607344.553184299
4736287.13733336
