0.5
0
0
-0.5
603970.554057044
4733920.71539636
