0.5
0
0
-0.5
617652.706425006
4731829.76490979
