0.5
0
0
-0.5
620941.07879378
4738829.64192509
