1
0
0
-1
593496.260419832
4747734.3920915
