1
0
0
-1
614158.270275216
4734172.54993279
