0.250000
0.000000
0.000000
-0.250000
572990.125000
4758979.875000
