0.250000
0.000000
0.000000
-0.250000
589970.125000
4759189.875000
