0.250000
0.000000
0.000000
-0.250000
573010.125000
4756669.875000
