0.250000
0.000000
0.000000
-0.250000
573060.125000
4752039.875000
