0.250000
0.000000
0.000000
-0.250000
573090.125000
4749729.875000
