0.250000
0.000000
0.000000
-0.250000
576510.125000
4747449.875000
