0.250000
0.000000
0.000000
-0.250000
579920.125000
4747489.875000
