0.250000
0.000000
0.000000
-0.250000
573140.125000
4745099.875000
