0.250000
0.000000
0.000000
-0.250000
583350.125000
4745219.875000
