0.250000
0.000000
0.000000
-0.250000
590160.125000
4745309.875000
