0.250000
0.000000
0.000000
-0.250000
603560.125000
4759389.875000
