0.250000
0.000000
0.000000
-0.250000
617150.125000
4759619.875000
