0.250000
0.000000
0.000000
-0.250000
617230.125000
4754989.875000
