0.250000
0.000000
0.000000
-0.250000
607110.125000
4750189.875000
