0.250000
0.000000
0.000000
-0.250000
613910.125000
4750299.875000
