0.250000
0.000000
0.000000
-0.250000
603770.125000
4745509.875000
