0.250000
0.000000
0.000000
-0.250000
613990.125000
4745679.875000
