0.250000
0.000000
0.000000
-0.250000
630700.125000
4762179.875000
