0.250000
0.000000
0.000000
-0.250000
644280.125000
4762459.875000
