0.250000
0.000000
0.000000
-0.250000
644380.125000
4757839.875000
