0.250000
0.000000
0.000000
-0.250000
624070.125000
4752799.875000
