0.250000
0.000000
0.000000
-0.250000
644480.125000
4753209.875000
