0.250000
0.000000
0.000000
-0.250000
620710.125000
4750419.875000
