0.250000
0.000000
0.000000
-0.250000
630960.125000
4748299.875000
