0.250000
0.000000
0.000000
-0.250000
634370.125000
4748369.875000
