0.250000
0.000000
0.000000
-0.250000
620800.125000
4745799.875000
