0.250000
0.000000
0.000000
-0.250000
631010.125000
4745989.875000
